BEGIN:VCALENDAR
VERSION:2.0
CALSCALE:GREGORIAN
PRODID:adamgibbons/ics
METHOD:PUBLISH
X-PUBLISHED-TTL:PT1H
BEGIN:VEVENT
UID:2336@sprachtreffen.de
SUMMARY:Sprachcafé für Frauen
DTSTAMP:20260423T102140Z
DTSTART:20260424T070000Z
DTEND:20260424T090000Z
URL:https://sprachtreffen.de/event/sprachcafe-fur-frauen-45
GEO:53.4343;10.3647
LOCATION:Jugendzentrum "Alter Bahnhof" - Bahnstraße 45\, 21502 Geesthacht\,
	 Deutschland
STATUS:CONFIRMED
CATEGORIES:deutsch,Norden
END:VEVENT
END:VCALENDAR
