BEGIN:VCALENDAR
VERSION:2.0
CALSCALE:GREGORIAN
PRODID:adamgibbons/ics
METHOD:PUBLISH
X-PUBLISHED-TTL:PT1H
BEGIN:VEVENT
UID:2346@sprachtreffen.de
SUMMARY:Sprachcafé für Frauen (Geesthacht)
DTSTAMP:20260420T170707Z
DTSTART:20260427T070000Z
DTEND:20260427T090000Z
URL:https://sprachtreffen.de/event/sprachcafe-fur-frauen-geesthacht-13
GEO:53.4384;10.3641
LOCATION:Familienzentrum Regenbogen - Neuer Krug 31\, 21502 Geesthacht\, De
	utschland
STATUS:CONFIRMED
CATEGORIES:deutsch,Norden
END:VEVENT
END:VCALENDAR
