BEGIN:VCALENDAR
VERSION:2.0
CALSCALE:GREGORIAN
PRODID:adamgibbons/ics
METHOD:PUBLISH
X-PUBLISHED-TTL:PT1H
BEGIN:VEVENT
UID:2297@sprachtreffen.de
SUMMARY:Sprachcafé Prenzlauer Berg (Berlin)
DTSTAMP:20260420T170831Z
DTSTART:20260421T140000Z
DTEND:20260421T160000Z
URL:https://sprachtreffen.de/event/sprachcafe-prenzlauer-berg-berlin-12
LOCATION:Stadtteilzentrum Prenzlauer Berg - Fehrbelliner Straße 92\, STZ Pr
	enzlauer Berg\, Berlin\, 10119\, Deutschland
STATUS:CONFIRMED
CATEGORIES:Berlin,deutsch
END:VEVENT
END:VCALENDAR
