BEGIN:VCALENDAR
VERSION:2.0
CALSCALE:GREGORIAN
PRODID:adamgibbons/ics
METHOD:PUBLISH
X-PUBLISHED-TTL:PT1H
BEGIN:VEVENT
UID:2125@sprachtreffen.de
SUMMARY:Niederländisch-Stammtisch Köln (4. Dienstag) I Nederlandse Stamtafe
	l Köln (4de dinsdag)
DTSTAMP:20260420T115810Z
DTSTART:20260428T171500Z
DTEND:20260428T193000Z
URL:https://sprachtreffen.de/event/niederlandisch-stammtisch-koln-4-diensta
	g-i-nederlandse-stamtafel-koln-4de-dinsdag-7
GEO:50.9556;6.91822
LOCATION:Haus Tutt - Fridolinstraße 72\, 50825 Köln
STATUS:CONFIRMED
CATEGORIES:niederländisch,NRW
END:VEVENT
BEGIN:VEVENT
UID:2265@sprachtreffen.de
SUMMARY:Niederländisch-Stammtisch Köln (2. Donnerstag) I Nederlandse Stamta
	fel Köln (2de donderdag)
DTSTAMP:20260420T115810Z
DTSTART:20260514T171500Z
DTEND:20260514T193000Z
URL:https://sprachtreffen.de/event/niederlandisch-stammtisch-koln-2-donners
	tag-i-nederlandse-stamtafel-koln-2de-donderdag-5
GEO:50.9556;6.91822
LOCATION:Haus Tutt - Fridolinstraße 72\, 50825 Köln
STATUS:CONFIRMED
CATEGORIES:niederländisch,NRW
END:VEVENT
END:VCALENDAR
