BEGIN:VCALENDAR
VERSION:2.0
CALSCALE:GREGORIAN
PRODID:adamgibbons/ics
METHOD:PUBLISH
X-PUBLISHED-TTL:PT1H
BEGIN:VEVENT
UID:2310@sprachtreffen.de
SUMMARY:DRF - Sprachcafé (Berlin)
DTSTAMP:20260420T082112Z
DTSTART:20260422T140000Z
DTEND:20260422T160000Z
URL:https://sprachtreffen.de/event/drf-sprachcafe-berlin-12
LOCATION:DRF-Sprachcafé - Grevesmühlener Straße 24\, 13059 Berlin
STATUS:CONFIRMED
CATEGORIES:Berlin
END:VEVENT
END:VCALENDAR
