BEGIN:VCALENDAR
VERSION:2.0
CALSCALE:GREGORIAN
PRODID:adamgibbons/ics
METHOD:PUBLISH
X-PUBLISHED-TTL:PT1H
BEGIN:VEVENT
UID:2300@sprachtreffen.de
SUMMARY:Sprach-Café im Wortreich (Glarus\, CH)
DTSTAMP:20260420T114029Z
DTSTART:20260421T120000Z
DTEND:20260421T130000Z
URL:https://sprachtreffen.de/event/sprach-cafe-im-wortreich-glarus-ch-36
LOCATION:Kulturbuchhandlung Wortreich - Abläschstrasse 79\, 8750 Glarus (Sc
	hweiz)
STATUS:CONFIRMED
CATEGORIES:italienisch,Schweiz
END:VEVENT
BEGIN:VEVENT
UID:2308@sprachtreffen.de
SUMMARY:Sprach-Café im Wortreich (Glarus\, CH)
DTSTAMP:20260420T114029Z
DTSTART:20260422T080000Z
DTEND:20260422T090000Z
URL:https://sprachtreffen.de/event/sprach-cafe-im-wortreich-glarus-ch-37
LOCATION:Kulturbuchhandlung Wortreich - Abläschstrasse 79\, 8750 Glarus (Sc
	hweiz)
STATUS:CONFIRMED
CATEGORIES:Schweiz,Spanisch
END:VEVENT
BEGIN:VEVENT
UID:2321@sprachtreffen.de
SUMMARY:Sprach-Café im Wortreich (Glarus\, CH)
DTSTAMP:20260420T114029Z
DTSTART:20260423T080000Z
DTEND:20260423T090000Z
URL:https://sprachtreffen.de/event/sprach-cafe-im-wortreich-glarus-ch-38
LOCATION:Kulturbuchhandlung Wortreich - Abläschstrasse 79\, 8750 Glarus (Sc
	hweiz)
STATUS:CONFIRMED
CATEGORIES:französisch,Schweiz
END:VEVENT
BEGIN:VEVENT
UID:2343@sprachtreffen.de
SUMMARY:Sprach-Café im Wortreich (Glarus\, CH)
DTSTAMP:20260420T114029Z
DTSTART:20260424T130000Z
DTEND:20260424T140000Z
URL:https://sprachtreffen.de/event/sprach-cafe-im-wortreich-glarus-ch-39
LOCATION:Kulturbuchhandlung Wortreich - Abläschstrasse 79\, 8750 Glarus (Sc
	hweiz)
STATUS:CONFIRMED
CATEGORIES:englisch,Schweiz
END:VEVENT
END:VCALENDAR
