BEGIN:VCALENDAR
VERSION:2.0
CALSCALE:GREGORIAN
PRODID:adamgibbons/ics
METHOD:PUBLISH
X-PUBLISHED-TTL:PT1H
BEGIN:VEVENT
UID:2288@sprachtreffen.de
SUMMARY:Sprachenabend (Gelsenkirchen)
DTSTAMP:20260420T082129Z
DTSTART:20260420T160000Z
DTEND:20260420T190000Z
URL:https://sprachtreffen.de/event/sprachenabend-gelsenkirchen-12
GEO:51.5159;7.1064
LOCATION:Bar Mathey - Florastraße 126\, 45888 Gelsenkirchen
STATUS:CONFIRMED
CATEGORIES:deutsch,englisch,international,NRW
END:VEVENT
BEGIN:VEVENT
UID:2317@sprachtreffen.de
SUMMARY:Spiel-Sprach-Café der GUTEN MISSION (Berlin)
DTSTAMP:20260420T082129Z
DTSTART:20260422T160000Z
DTEND:20260422T190000Z
URL:https://sprachtreffen.de/event/spiel-sprach-cafe-der-guten-mission-berl
	in-12
LOCATION:LIFE+LIFE - Treskowallee 78\, 10318 Berlin\, 10318 Berlin\, Berlin
	\, 10318\, Deutschland
STATUS:CONFIRMED
CATEGORIES:Berlin,englisch,international,russisch,ukrainisch
END:VEVENT
BEGIN:VEVENT
UID:2163@sprachtreffen.de
SUMMARY:Vladimir Nabakov - Pnin
DTSTAMP:20260420T082129Z
DTSTART:20260424T083000Z
DTEND:20260424T103000Z
URL:https://sprachtreffen.de/event/vladimir-nabakov-pnin
GEO:49.4078;8.69391
LOCATION:Deutsch-Amerikanisches Institut - 12 Sofienstraße\, Heidelberg\, B
	aden-Württemberg\, Germany
STATUS:CONFIRMED
CATEGORIES:Books,BW,englisch
END:VEVENT
BEGIN:VEVENT
UID:2343@sprachtreffen.de
SUMMARY:Sprach-Café im Wortreich (Glarus\, CH)
DTSTAMP:20260420T082129Z
DTSTART:20260424T130000Z
DTEND:20260424T140000Z
URL:https://sprachtreffen.de/event/sprach-cafe-im-wortreich-glarus-ch-39
LOCATION:Kulturbuchhandlung Wortreich - Abläschstrasse 79\, 8750 Glarus (Sc
	hweiz)
STATUS:CONFIRMED
CATEGORIES:englisch,Schweiz
END:VEVENT
BEGIN:VEVENT
UID:2224@sprachtreffen.de
SUMMARY:Sprachenabend Düsseldorf I All languages
DTSTAMP:20260420T082129Z
DTSTART:20260503T150000Z
DTEND:20260503T190000Z
URL:https://sprachtreffen.de/event/sprachenabend-dusseldorf-1
LOCATION:Café Saffran's - Collenbachstraße 21\, 40476 Düsseldorf
STATUS:CONFIRMED
CATEGORIES:deutsch,englisch,französisch,international,isländisch,italienisc
	h,niederländisch,NRW,Spanisch
END:VEVENT
END:VCALENDAR
